BEGIN:VCALENDAR
VERSION:2.0
PRODID:-//The Citizens Foundation (TCF) - ECPv5.16.4//NONSGML v1.0//EN
CALSCALE:GREGORIAN
METHOD:PUBLISH
X-WR-CALNAME:The Citizens Foundation (TCF)
X-ORIGINAL-URL:https://www.tcf.org.pk
X-WR-CALDESC:Events for The Citizens Foundation (TCF)
REFRESH-INTERVAL;VALUE=DURATION:PT1H
X-Robots-Tag:noindex
X-PUBLISHED-TTL:PT1H
BEGIN:VTIMEZONE
TZID:Asia/Karachi
BEGIN:STANDARD
TZOFFSETFROM:+0500
TZOFFSETTO:+0500
TZNAME:PKT
DTSTART:20240101T000000
END:STANDARD
END:VTIMEZONE
BEGIN:VEVENT
DTSTART;TZID=Asia/Karachi:20241019T193000
DTEND;TZID=Asia/Karachi:20241019T213000
DTSTAMP:20260424T050803
CREATED:20240910T123514Z
LAST-MODIFIED:20240919T091137Z
UID:178370-1729366200-1729373400@www.tcf.org.pk
SUMMARY:TCF Charity Dinner Gala Amsterdam\, Netherlands.
DESCRIPTION:For an inspirational evening with Ayesha Omer | Zaitoon Karim \n\n\n\n\n\n\n\n\n\n\n\n\n\n\n\n\n\n\n\nOut-of-school children in Pakistan have surged to an alarming 26.2 million\, depriving them of the chance to build a brighter future. \n\n\n\nFounded in 1995\, The Citizens Foundation (TCF) is a non-profit organisation committed to addressing this challenge. With a vision of quality education for all\, TCF is working around the clock to make education accessible to less-privileged children in Pakistan. \n\n\n\nWe are delighted to announce our upcoming Europe Tour from October 13th – 27th\, 2024 with 8 special events. As a highlight of our journey\, we are honoured to host TCF Charity Dinner Gala Amsterdam\, Netherlands. \n\n\n\nWe look forward to seeing you on Saturday October 19\, 2024 at 19:30 at the Dunya Event Center. \n\n\n\nOn the day you will get the opportunity to become Agents of Change; learn how TCF is working towards empowering children and their families across the country through education. \n\n\n\nRSVP:  +31 6 52360674 Team Netherlands \n\n\n\nSNOProgramTime 1Doors Open18:30 2Networking18:30-19:00Registration of attendees3Welcome19:00- 19:15 4Lets learn about TCF19:20 – 5Reflections from Zaitoon Karim TCF Alumni20:00 – 6Fundraising20:20 –Pledges | Gifts| Donor information collected7Dinner21:00 8   
URL:https://www.tcf.org.pk/event/tcf-charity-dinner-gala-amsterdam-netherlands/
LOCATION:Dunya Event Center Wijkermeerweg 48\, 1948 NW Beverwijk\, Netherlands\, Dunya Event Center Wijkermeerweg 48\, NW \, Netherlands\, Beverwijk\, 1948\, Netherlands
ATTACH;FMTTYPE=image/jpeg:https://tcf-wp.tcfglobal.org/wp-content/uploads/2024/09/10191941/WhatsApp-Image-2024-09-10-at-17.35.10_f94f6d16.jpg
END:VEVENT
END:VCALENDAR